BEGIN:VCALENDAR
VERSION:2.0
PRODID:-//First United Methodist Church of Kalamazoo - ECPv6.15.20//NONSGML v1.0//EN
CALSCALE:GREGORIAN
METHOD:PUBLISH
X-WR-CALNAME:First United Methodist Church of Kalamazoo
X-ORIGINAL-URL:https://umc-kzo.org
X-WR-CALDESC:Events for First United Methodist Church of Kalamazoo
REFRESH-INTERVAL;VALUE=DURATION:PT1H
X-Robots-Tag:noindex
X-PUBLISHED-TTL:PT1H
BEGIN:VTIMEZONE
TZID:America/Detroit
BEGIN:DAYLIGHT
TZOFFSETFROM:-0500
TZOFFSETTO:-0400
TZNAME:EDT
DTSTART:20220313T070000
END:DAYLIGHT
BEGIN:STANDARD
TZOFFSETFROM:-0400
TZOFFSETTO:-0500
TZNAME:EST
DTSTART:20221106T060000
END:STANDARD
BEGIN:DAYLIGHT
TZOFFSETFROM:-0500
TZOFFSETTO:-0400
TZNAME:EDT
DTSTART:20230312T070000
END:DAYLIGHT
BEGIN:STANDARD
TZOFFSETFROM:-0400
TZOFFSETTO:-0500
TZNAME:EST
DTSTART:20231105T060000
END:STANDARD
BEGIN:DAYLIGHT
TZOFFSETFROM:-0500
TZOFFSETTO:-0400
TZNAME:EDT
DTSTART:20240310T070000
END:DAYLIGHT
BEGIN:STANDARD
TZOFFSETFROM:-0400
TZOFFSETTO:-0500
TZNAME:EST
DTSTART:20241103T060000
END:STANDARD
END:VTIMEZONE
BEGIN:VEVENT
DTSTART;TZID=America/Detroit:20230302T120000
DTEND;TZID=America/Detroit:20230330T130000
DTSTAMP:20260420T070043
CREATED:20230302T174314Z
LAST-MODIFIED:20230302T174314Z
UID:15205-1677758400-1680181200@umc-kzo.org
SUMMARY:Lenten Organ Series
DESCRIPTION:Make sure to keep an eye out for these dates. Our Lenten Organ Series kicked off on March 2 and will continue throughout the season of Lent. Please join us! \n\nMarch 9 \nMarilyn Ossentjuk\, Organist and Minister of Music at St. Luke’s Episcopal Church\, Kalamazoo \n\nMarch 16 \nDr. Andrew Meagher\, Pastoral Musician\, St. Kieran’s Catholic Church\, Shelby Township \n\nMarch 23 \nDr. Thomas Fielding\, Director of Music at St. Augustine Cathedral\, Kalamazoo \n\nMarch 30 \nMi Zhou\, Doctoral Student in Organ Performance at the University of Michigan and Mayumi Naramura\, Graduate Student in Early Keyboard Instruments at the University of Michigan
URL:https://umc-kzo.org/event/lenten-organ-series/
LOCATION:MI
ATTACH;FMTTYPE=image/jpeg:https://umc-kzo.org/wp-content/uploads/2023/03/3.jpg
END:VEVENT
BEGIN:VEVENT
DTSTART;TZID=America/Detroit:20230305T100000
DTEND;TZID=America/Detroit:20230305T120000
DTSTAMP:20260420T070043
CREATED:20230302T183857Z
LAST-MODIFIED:20230305T145846Z
UID:15208-1678010400-1678017600@umc-kzo.org
SUMMARY:Seeking: How do we begin again? 
DESCRIPTION:This Second Sunday of Lent\, two texts will guide our worship. The first featuring Abram and Sarai in Genesis Chapter 12. At the end of Genesis 11\, all things pointed to death for this couple\, and then in chapter 12 all things point towards life. In chapter 11 they were without direction. At the beginning of Chapter 12 they were called to new adventure. The rest of their lives would be spent seeking the God who first called them. In the gospel lesson\, Nicodemus comes seeking Jesus in the cover of night. Both men are Rabbi’s\, and Nicodemus is curious about Jesus’s teaching. The result is an invitation from Jesus to Nicodemus to be born again. In both texts God casts an invitation for new life. In Lent\, in all times really\, God casts an invitation to all for new life. Are you curious? May our worship be a time of seeking God’s newness\, to begin again.   \nJoin us in person or online for worship on Sundays at 10am. Before you join us for in person worship\, please review our updated mask optional practice.
URL:https://umc-kzo.org/event/second-sunday-of-lent/
LOCATION:MI
CATEGORIES:Service
ATTACH;FMTTYPE=image/jpeg:https://umc-kzo.org/wp-content/uploads/2023/02/20230222_163432340_iOS-scaled.jpg
END:VEVENT
BEGIN:VEVENT
DTSTART;TZID=America/Detroit:20230312T100000
DTEND;TZID=America/Detroit:20230312T110000
DTSTAMP:20260420T070043
CREATED:20230309T211241Z
LAST-MODIFIED:20230312T143026Z
UID:15322-1678615200-1678618800@umc-kzo.org
SUMMARY:“Will You Give Me a Drink?”
DESCRIPTION:This third Sunday of lent Jesus crosses cultural\, religious\, and societal boundaries by leading his disciples through Samaria. In the heat of midday\, he seeks out connection with a Samaritan woman drawing water from the well. His command to her is also a question and an invitation to a new way of life: Will you give me a drink? For the woman\, to respond is risky but life-changing. This question creates a dialogue between them in which Jesus sees the woman fully; she leaves the well transformed. This week\, we might imagine ourselves at the well and as we do this\, we will engage with the living water during our worship celebration as the First Beats lead us musically. All will be invited to the fountain to remember that Jesus seeks us to be in a relationship of sacred mutuality. If you are worshipping from home\, make sure to have a bowl of water nearby. We will also be taking a loose change\, change the world offering for the UMCOR initiative of WASH that helps to provide clean water to communities. Let us come thirsty for the Living Water that Jesus provides.   \nJoin us in person or online for worship on Sundays at 10am. Before you join us for in person worship\, please review our updated mask optional practice.
URL:https://umc-kzo.org/event/will-you-give-me-a-drink/
LOCATION:MI
CATEGORIES:Service
ATTACH;FMTTYPE=image/jpeg:https://umc-kzo.org/wp-content/uploads/2023/03/20230308_184139895_iOS-scaled.jpg
END:VEVENT
BEGIN:VEVENT
DTSTART;TZID=America/Detroit:20230312T110000
DTEND;TZID=America/Detroit:20230612T120000
DTSTAMP:20260420T070043
CREATED:20230309T205052Z
LAST-MODIFIED:20230309T205457Z
UID:15318-1678618800-1686571200@umc-kzo.org
SUMMARY:Saving Jesus
DESCRIPTION:Ever feel like Jesus has been kidnapped by the Christian Right and discarded by the Secular Left? “Saving Jesus” is a DVD-based exploration of a credible Jesus for the 21st century. Join Marcus Borg\, Walter Brueggemann\, Amy-Jill Levine\, John Dominic Crossan\, and a host of others for a conversation around the relevance of Jesus for today. They encourage us to embrace a deeper understanding of our Christian faith that is inclusive and reconciling rather than unique and exclusive. John Clark will facilitate the discussion.  \n\n\n  \n\n\n\nThe class will run for 12 more-or-less consecutive Sundays (except Easter and probably Memorial Day).  That takes us into mid-June! The class will meet at the parlor.
URL:https://umc-kzo.org/event/saving-jesus/
LOCATION:MI
ATTACH;FMTTYPE=image/jpeg:https://umc-kzo.org/wp-content/uploads/2023/03/sj2-logo.jpg
END:VEVENT
BEGIN:VEVENT
DTSTART;TZID=America/Detroit:20230319T100000
DTEND;TZID=America/Detroit:20230319T170000
DTSTAMP:20260420T070043
CREATED:20230316T172224Z
LAST-MODIFIED:20230319T141658Z
UID:15500-1679220000-1679245200@umc-kzo.org
SUMMARY:Who sinned?
DESCRIPTION:In John 9:1-12\, we read about the transformative power of Jesus’ love and grace as he healed a man who was born blind. This story reminds us that just as Jesus healed the man in the story\, he can also heal us and open our eyes to the truth of his love and grace. Through prayer and reflection\, let us offer our praises and thanks to God for his blessings in our lives and for his healing power. \nWe have sinned. We put our heads in the sand. We ignored people in need. We make false assumptions and fail to be kind. We are in need of forgiveness. Good news! Our God is a merciful God. God does not punish\, hold grudges\, or keep score. When you suffer\, God weeps. When you sin\, God forgives. When you lose your way\, God comes running. \nThanks be to God for a love like that.
URL:https://umc-kzo.org/event/who-sinned/
LOCATION:MI
CATEGORIES:Service
ATTACH;FMTTYPE=image/jpeg:https://umc-kzo.org/wp-content/uploads/2023/03/4601BEE2-219F-4546-96EC-42D614725C81-1-scaled.jpeg
END:VEVENT
BEGIN:VEVENT
DTSTART;TZID=America/Detroit:20230326T100000
DTEND;TZID=America/Detroit:20230326T170000
DTSTAMP:20260420T070043
CREATED:20230323T171353Z
LAST-MODIFIED:20230327T134211Z
UID:15630-1679824800-1679850000@umc-kzo.org
SUMMARY:Can These Bones Live?
DESCRIPTION:In this Fifth Sunday of Lent\, we gather to remember and reflect on the powerful vision Ezekial experienced. He was led by God into a valley of dry bones\, and there\, amidst the lifeless remains\, God posed a crucial question to him\, “Can these bones live?” As Ezekial prophesied to these bones\, God commanded that they would be filled with the breath of life and come to know their Creator. \nThis compelling story invites us to ponder the abundance of life that God provides. Can we recognize the glimmers of God’s abundance in our present lives? Will we persist as we receive the resuscitating breath of life from God? Do we have faith that life is possible\, always? \nIn this season of Lent\, our journey of questioning and seeking may not always yield clear answers. However\, we are drawn ever closer to the sacred center\, the Source that is God\, and our hope is nourished. We are called to come together\, to experience\, celebrate\, and share God’s love this Sunday. \nJoin us as we delve into the mysteries and wonders of our faith\, seeking solace and inspiration from the story of Ezekial and the dry bones. Let us embrace the challenge of finding God’s abundance\, even in the most unexpected places\, and rejoice in the gift of life that our Creator so graciously bestows upon us. \nJoin us in person or online for worship on Sundays at 10am. Before you join us for in person worship\, please review our updated mask optional practice.
URL:https://umc-kzo.org/event/can-these-bones-live/
LOCATION:MI
CATEGORIES:Service
ATTACH;FMTTYPE=image/jpeg:https://umc-kzo.org/wp-content/uploads/2023/03/20230323_134634107_iOS-scaled.jpg
END:VEVENT
END:VCALENDAR