BEGIN:VCALENDAR
VERSION:2.0
PRODID:-//First United Methodist Church of Kalamazoo - ECPv6.15.20//NONSGML v1.0//EN
CALSCALE:GREGORIAN
METHOD:PUBLISH
X-WR-CALNAME:First United Methodist Church of Kalamazoo
X-ORIGINAL-URL:https://umc-kzo.org
X-WR-CALDESC:Events for First United Methodist Church of Kalamazoo
REFRESH-INTERVAL;VALUE=DURATION:PT1H
X-Robots-Tag:noindex
X-PUBLISHED-TTL:PT1H
BEGIN:VTIMEZONE
TZID:America/Detroit
BEGIN:DAYLIGHT
TZOFFSETFROM:-0500
TZOFFSETTO:-0400
TZNAME:EDT
DTSTART:20210314T070000
END:DAYLIGHT
BEGIN:STANDARD
TZOFFSETFROM:-0400
TZOFFSETTO:-0500
TZNAME:EST
DTSTART:20211107T060000
END:STANDARD
BEGIN:DAYLIGHT
TZOFFSETFROM:-0500
TZOFFSETTO:-0400
TZNAME:EDT
DTSTART:20220313T070000
END:DAYLIGHT
BEGIN:STANDARD
TZOFFSETFROM:-0400
TZOFFSETTO:-0500
TZNAME:EST
DTSTART:20221106T060000
END:STANDARD
BEGIN:DAYLIGHT
TZOFFSETFROM:-0500
TZOFFSETTO:-0400
TZNAME:EDT
DTSTART:20230312T070000
END:DAYLIGHT
BEGIN:STANDARD
TZOFFSETFROM:-0400
TZOFFSETTO:-0500
TZNAME:EST
DTSTART:20231105T060000
END:STANDARD
END:VTIMEZONE
BEGIN:VEVENT
DTSTART;TZID=America/Detroit:20221120T100000
DTEND;TZID=America/Detroit:20221120T230000
DTSTAMP:20260420T043538
CREATED:20221117T160728Z
LAST-MODIFIED:20221120T150044Z
UID:13167-1668938400-1668985200@umc-kzo.org
SUMMARY:Reign of Christ Sunday
DESCRIPTION:“For in him all the fullness of God was pleased to dwell\, and through him\, God was pleased to reconcile to himself all things…”\nColossians 1: 19a \nWhat does it mean to speak of the Christ who reigns or Christ the king? The Gospels will undoubtedly tell us that Jesus redefined what it meant to be king\, this is his purpose in coming. The one who reigns in our lives was treated as a common criminal by an oppressive government and was executed publicly\, intended to humiliate and destroy. Yet\, Christ reigns. With power\, he is our king that is on the ground with us. He is the reconciler that shows us the power of joy and the way out of darkness. This is the one whom we gather to worship and more importantly\, follow. The one who reigns in our hearts\, our lives and is our ground of being. Come\, let us worship with joy!
URL:https://umc-kzo.org/event/reign-of-christ-sunday/
LOCATION:MI
CATEGORIES:Service
ATTACH;FMTTYPE=image/jpeg:https://umc-kzo.org/wp-content/uploads/2022/11/20221116_171201653_iOS-scaled.jpg
END:VEVENT
BEGIN:VEVENT
DTSTART;TZID=America/Detroit:20221120T111500
DTEND;TZID=America/Detroit:20221120T123000
DTSTAMP:20260420T043539
CREATED:20221117T163358Z
LAST-MODIFIED:20221117T163358Z
UID:13172-1668942900-1668947400@umc-kzo.org
SUMMARY:The future of the Methodist Church
DESCRIPTION:Deb Search Willoughby and David Lundquist will lead an Academy Class on Sunday\, November 20 at in the Parlor. This class will provide the opportunity to hear more about what is happening within the denomination\, to discuss and ask questions\, and to learn how the UMC’s future may or may not impact First United Methodist Church of Kalamazoo. \nSince early 2019 United Methodists eagerly awaited the May 2020 General Conference\, where over 800 delegates from around the world would make important decisions about the future of The United Methodist Church. The pandemic caused the postponement of that General Conference until May 2024. \nIn the meantime\, several things have happened that will shape the UMC’s future. Every local church and all parts of The United Methodist Church have experienced the pandemic and its impact on ministry. In many places membership and finances are less. In others\, ministry and finances have remained vital. A small percentage of churches have left or are choosing to leave the denomination (a process called “disaffiliation”) to become part of the Global Methodist Church\, a newly formed body attracting those who no longer feel they can be part of The United Methodist Church. \n 
URL:https://umc-kzo.org/event/the-future-of-the-methodist-church/
LOCATION:MI
ATTACH;FMTTYPE=image/png:https://umc-kzo.org/wp-content/uploads/2022/11/The-future-of-theethodist-church-m.png
END:VEVENT
END:VCALENDAR